BEGIN:VCALENDAR
VERSION:2.0
PRODID:-//Sophicity/Tribune/Fairmount, GA
BEGIN:VEVENT
DTSTAMP:20260422T210537Z
UID:482016fc-1a34-4594-9e20-4e2d22749d7e-3802
DTSTART:20230502T220000Z
DTEND:20230503T000000Z
CLASS:PUBLIC
SUMMARY:City Council Meeting
END:VEVENT
END:VCALENDAR
